BEGIN:VCALENDAR
VERSION:2.0
PRODID:-//CHCI - ECPv6.15.19//NONSGML v1.0//EN
CALSCALE:GREGORIAN
METHOD:PUBLISH
X-ORIGINAL-URL:http://chci.org
X-WR-CALDESC:Events for CHCI
REFRESH-INTERVAL;VALUE=DURATION:PT1H
X-Robots-Tag:noindex
X-PUBLISHED-TTL:PT1H
BEGIN:VTIMEZONE
TZID:America/New_York
BEGIN:DAYLIGHT
TZOFFSETFROM:-0500
TZOFFSETTO:-0400
TZNAME:EDT
DTSTART:20250309T070000
END:DAYLIGHT
BEGIN:STANDARD
TZOFFSETFROM:-0400
TZOFFSETTO:-0500
TZNAME:EST
DTSTART:20251102T060000
END:STANDARD
BEGIN:DAYLIGHT
TZOFFSETFROM:-0500
TZOFFSETTO:-0400
TZNAME:EDT
DTSTART:20260308T070000
END:DAYLIGHT
BEGIN:STANDARD
TZOFFSETFROM:-0400
TZOFFSETTO:-0500
TZNAME:EST
DTSTART:20261101T060000
END:STANDARD
BEGIN:DAYLIGHT
TZOFFSETFROM:-0500
TZOFFSETTO:-0400
TZNAME:EDT
DTSTART:20270314T070000
END:DAYLIGHT
BEGIN:STANDARD
TZOFFSETFROM:-0400
TZOFFSETTO:-0500
TZNAME:EST
DTSTART:20271107T060000
END:STANDARD
END:VTIMEZONE
BEGIN:VEVENT
DTSTART;TZID=America/New_York:20260603T090000
DTEND;TZID=America/New_York:20260603T123000
DTSTAMP:20260421T224759
CREATED:20260421T175234Z
LAST-MODIFIED:20260421T180230Z
UID:28963-1780477200-1780489800@chci.org
SUMMARY:CHCI Health Dialogue Series
DESCRIPTION:We are excited to host you at the #CHCI Health Dialogues!The CHCI Health Dialogue Series on Capitol Hill convenes policymakers\, corporate leaders\, policy experts\, and thought leaders for high-level discussions on health-related issues affecting the nation and Latinos. Designed to meet the moment\, the series brings cross-sector leaders together at the center of health policymaking to align on what is needed now\, and what is next. Attendees can expect solutions-driven discussions grounded in evidence\, centered on the policy levers and implementation of realities that help turn ideas into impact.\n\n\n\n\n\n\n\n\n\n\n	\n		\n\n			\n			\n\n							\n					\n						Upcoming Events					\n				\n			\n			\n				\n											\n\n	\n	\n		\n			Sep		\n		\n			17		\n	\n\n\n	\n		\n			\n\n				\n					\n		\n		4:30 pm – 10:00 pm	\n	\n					\n	\n		CHCI 49th Annual Awards Gala	\n\n				\n\n				\n			\n		\n	\n\n\n											\n\n	\n	\n		\n			Nov		\n		\n			18		\n	\n\n\n	\n		\n			\n\n				\n					\n		\n		8:00 am – 5:00 pm	\n	\n					\n	\n		2026 CHCI Tech Summit	\n\n				\n\n				\n			\n		\n	\n\n\n											\n\n	\n	\n		\n			Nov		\n		\n			18		\n	\n\n\n	\n		\n			\n\n				\n					\n		\n		4:30 pm – 10:00 pm	\n	\n					\n	\n		2026 CHCI Congressional Staff Awards	\n\n				\n\n				\n			\n		\n	\n\n\n									\n\n				\n	\n		View Calendar
URL:http://chci.org/event/chci-health-dialogue-series/
CATEGORIES:eventcategory
ATTACH;FMTTYPE=image/png:http://chci.org/wp-content/uploads/2026/04/2026-Health-Dialogue-Series-1920-x-1080-px-1.png
ORGANIZER;CN="CHCI":MAILTO:info@chci.org
END:VEVENT
BEGIN:VEVENT
DTSTART;TZID=America/New_York:20260721T090000
DTEND;TZID=America/New_York:20260721T123000
DTSTAMP:20260421T224759
CREATED:20260421T175638Z
LAST-MODIFIED:20260421T175639Z
UID:28964-1784624400-1784637000@chci.org
SUMMARY:CHCI Health Dialogue Series
DESCRIPTION:We are excited to host you at the #CHCI Health Dialogues!The CHCI Health Dialogue Series on Capitol Hill convenes policymakers\, corporate leaders\, policy experts\, and thought leaders for high-level discussions on health-related issues affecting the nation and Latinos. Designed to meet the moment\, the series brings cross-sector leaders together at the center of health policymaking to align on what is needed now\, and what is next. Attendees can expect solutions-driven discussions grounded in evidence\, centered on the policy levers and implementation of realities that help turn ideas into impact.\n\n\n\n\n\n\n\n\n\n\n	\n		\n\n			\n			\n\n							\n					\n						Upcoming Events					\n				\n			\n			\n				\n											\n\n	\n	\n		\n			Sep		\n		\n			17		\n	\n\n\n	\n		\n			\n\n				\n					\n		\n		4:30 pm – 10:00 pm	\n	\n					\n	\n		CHCI 49th Annual Awards Gala	\n\n				\n\n				\n			\n		\n	\n\n\n											\n\n	\n	\n		\n			Nov		\n		\n			18		\n	\n\n\n	\n		\n			\n\n				\n					\n		\n		8:00 am – 5:00 pm	\n	\n					\n	\n		2026 CHCI Tech Summit	\n\n				\n\n				\n			\n		\n	\n\n\n											\n\n	\n	\n		\n			Nov		\n		\n			18		\n	\n\n\n	\n		\n			\n\n				\n					\n		\n		4:30 pm – 10:00 pm	\n	\n					\n	\n		2026 CHCI Congressional Staff Awards	\n\n				\n\n				\n			\n		\n	\n\n\n									\n\n				\n	\n		View Calendar
URL:http://chci.org/event/chci-health-dialogue-series-4/
CATEGORIES:eventcategory
ATTACH;FMTTYPE=image/png:http://chci.org/wp-content/uploads/2026/04/2026-Health-Dialogue-Series-1920-x-1080-px.png
ORGANIZER;CN="CHCI":MAILTO:info@chci.org
END:VEVENT
BEGIN:VEVENT
DTSTART;TZID=America/New_York:20260915T083000
DTEND;TZID=America/New_York:20260916T183000
DTSTAMP:20260421T224759
CREATED:20251219T215422Z
LAST-MODIFIED:20251219T215447Z
UID:28785-1789461000-1789583400@chci.org
SUMMARY:2026 CHCI Leadership Conference
DESCRIPTION:Upcoming Events					\n				\n			\n			\n				\n											\n\n	\n	\n		\n			Sep		\n		\n			17		\n	\n\n\n	\n		\n			\n\n				\n					\n		\n		4:30 pm – 10:00 pm	\n	\n					\n	\n		CHCI 49th Annual Awards Gala	\n\n				\n\n				\n			\n		\n	\n\n\n											\n\n	\n	\n		\n			Nov		\n		\n			18		\n	\n\n\n	\n		\n			\n\n				\n					\n		\n		8:00 am – 5:00 pm	\n	\n					\n	\n		2026 CHCI Tech Summit	\n\n				\n\n				\n			\n		\n	\n\n\n											\n\n	\n	\n		\n			Nov		\n		\n			18		\n	\n\n\n	\n		\n			\n\n				\n					\n		\n		4:30 pm – 10:00 pm	\n	\n					\n	\n		2026 CHCI Congressional Staff Awards	\n\n				\n\n				\n			\n		\n	\n\n\n									\n\n				\n	\n		View Calendar
URL:http://chci.org/event/2026-chci-leadership-conference/
CATEGORIES:eventcategory
ORGANIZER;CN="CHCI":MAILTO:info@chci.org
END:VEVENT
BEGIN:VEVENT
DTSTART;TZID=America/New_York:20260917T163000
DTEND;TZID=America/New_York:20260917T220000
DTSTAMP:20260421T224759
CREATED:20251219T215624Z
LAST-MODIFIED:20251219T215625Z
UID:28786-1789662600-1789682400@chci.org
SUMMARY:CHCI 49th Annual Awards Gala
DESCRIPTION:Upcoming Events					\n				\n			\n			\n				\n											\n\n	\n	\n		\n			Sep		\n		\n			17		\n	\n\n\n	\n		\n			\n\n				\n					\n		\n		4:30 pm – 10:00 pm	\n	\n					\n	\n		CHCI 49th Annual Awards Gala	\n\n				\n\n				\n			\n		\n	\n\n\n											\n\n	\n	\n		\n			Nov		\n		\n			18		\n	\n\n\n	\n		\n			\n\n				\n					\n		\n		8:00 am – 5:00 pm	\n	\n					\n	\n		2026 CHCI Tech Summit	\n\n				\n\n				\n			\n		\n	\n\n\n											\n\n	\n	\n		\n			Nov		\n		\n			18		\n	\n\n\n	\n		\n			\n\n				\n					\n		\n		4:30 pm – 10:00 pm	\n	\n					\n	\n		2026 CHCI Congressional Staff Awards	\n\n				\n\n				\n			\n		\n	\n\n\n									\n\n				\n	\n		View Calendar
URL:http://chci.org/event/chci-49th-annual-awards-gala/
CATEGORIES:eventcategory
ORGANIZER;CN="CHCI":MAILTO:info@chci.org
END:VEVENT
BEGIN:VEVENT
DTSTART;TZID=America/New_York:20261118T080000
DTEND;TZID=America/New_York:20261118T170000
DTSTAMP:20260421T224759
CREATED:20251219T215730Z
LAST-MODIFIED:20251219T220128Z
UID:28787-1794988800-1795021200@chci.org
SUMMARY:2026 CHCI Tech Summit
DESCRIPTION:Upcoming Events					\n				\n			\n			\n				\n											\n\n	\n	\n		\n			Sep		\n		\n			17		\n	\n\n\n	\n		\n			\n\n				\n					\n		\n		4:30 pm – 10:00 pm	\n	\n					\n	\n		CHCI 49th Annual Awards Gala	\n\n				\n\n				\n			\n		\n	\n\n\n											\n\n	\n	\n		\n			Nov		\n		\n			18		\n	\n\n\n	\n		\n			\n\n				\n					\n		\n		8:00 am – 5:00 pm	\n	\n					\n	\n		2026 CHCI Tech Summit	\n\n				\n\n				\n			\n		\n	\n\n\n											\n\n	\n	\n		\n			Nov		\n		\n			18		\n	\n\n\n	\n		\n			\n\n				\n					\n		\n		4:30 pm – 10:00 pm	\n	\n					\n	\n		2026 CHCI Congressional Staff Awards	\n\n				\n\n				\n			\n		\n	\n\n\n									\n\n				\n	\n		View Calendar
URL:http://chci.org/event/2026-chci-tech-summit/
CATEGORIES:eventcategory
ORGANIZER;CN="CHCI":MAILTO:info@chci.org
END:VEVENT
BEGIN:VEVENT
DTSTART;TZID=America/New_York:20261118T163000
DTEND;TZID=America/New_York:20261118T220000
DTSTAMP:20260421T224759
CREATED:20251219T215923Z
LAST-MODIFIED:20251219T215924Z
UID:28788-1795019400-1795039200@chci.org
SUMMARY:2026 CHCI Congressional Staff Awards
DESCRIPTION:Upcoming Events					\n				\n			\n			\n				\n											\n\n	\n	\n		\n			Sep		\n		\n			17		\n	\n\n\n	\n		\n			\n\n				\n					\n		\n		4:30 pm – 10:00 pm	\n	\n					\n	\n		CHCI 49th Annual Awards Gala	\n\n				\n\n				\n			\n		\n	\n\n\n											\n\n	\n	\n		\n			Nov		\n		\n			18		\n	\n\n\n	\n		\n			\n\n				\n					\n		\n		8:00 am – 5:00 pm	\n	\n					\n	\n		2026 CHCI Tech Summit	\n\n				\n\n				\n			\n		\n	\n\n\n											\n\n	\n	\n		\n			Nov		\n		\n			18		\n	\n\n\n	\n		\n			\n\n				\n					\n		\n		4:30 pm – 10:00 pm	\n	\n					\n	\n		2026 CHCI Congressional Staff Awards	\n\n				\n\n				\n			\n		\n	\n\n\n									\n\n				\n	\n		View Calendar
URL:http://chci.org/event/2026-chci-congressional-staff-awards/
CATEGORIES:eventcategory
ORGANIZER;CN="CHCI":MAILTO:info@chci.org
END:VEVENT
END:VCALENDAR