BEGIN:VCALENDAR
VERSION:2.0
PRODID:-//CHCI - ECPv6.15.19//NONSGML v1.0//EN
CALSCALE:GREGORIAN
METHOD:PUBLISH
X-WR-CALNAME:CHCI
X-ORIGINAL-URL:https://chci.org
X-WR-CALDESC:Events for CHCI
REFRESH-INTERVAL;VALUE=DURATION:PT1H
X-Robots-Tag:noindex
X-PUBLISHED-TTL:PT1H
BEGIN:VTIMEZONE
TZID:America/New_York
BEGIN:DAYLIGHT
TZOFFSETFROM:-0500
TZOFFSETTO:-0400
TZNAME:EDT
DTSTART:20240310T070000
END:DAYLIGHT
BEGIN:STANDARD
TZOFFSETFROM:-0400
TZOFFSETTO:-0500
TZNAME:EST
DTSTART:20241103T060000
END:STANDARD
BEGIN:DAYLIGHT
TZOFFSETFROM:-0500
TZOFFSETTO:-0400
TZNAME:EDT
DTSTART:20250309T070000
END:DAYLIGHT
BEGIN:STANDARD
TZOFFSETFROM:-0400
TZOFFSETTO:-0500
TZNAME:EST
DTSTART:20251102T060000
END:STANDARD
BEGIN:DAYLIGHT
TZOFFSETFROM:-0500
TZOFFSETTO:-0400
TZNAME:EDT
DTSTART:20260308T070000
END:DAYLIGHT
BEGIN:STANDARD
TZOFFSETFROM:-0400
TZOFFSETTO:-0500
TZNAME:EST
DTSTART:20261101T060000
END:STANDARD
END:VTIMEZONE
BEGIN:VEVENT
DTSTART;TZID=America/New_York:20251119T090000
DTEND;TZID=America/New_York:20251119T161500
DTSTAMP:20260422T184007
CREATED:20251107T202153Z
LAST-MODIFIED:20251205T195714Z
UID:28741-1763542800-1763568900@chci.org
SUMMARY:CHCI Tech Summit
DESCRIPTION:DOWNLOAD PROGRAM BOOK	\n\n\n\n\n \n\n\n\n	\n		VIEW EVENT PHOTOS	\n\n\n\n\n	\n\n\n\nThank you to everyone who joined us at the 2025 CHCI Tech Summit! We convened over 200 cross-sector leaders\, including Members of Congress\, policymakers\, corporate executives\, industry experts\, and community advocates\, for solutions-oriented conversations on technological innovation and its impact on our communities and beyond.Attendees engaged in critical conversations on closing the connectivity gap\, preparing a tech-ready Latino workforce\, and building guardrails for AI without stunting innovation. These discussions highlighted the people and ideas driving real\, sustainable solutions for the Latino community and the nation.\n\n\n\n\n	\n		\n\n			\n			\n\n							\n					\n						Upcoming Events					\n				\n			\n			\n				\n											\n\n	\n	\n		\n			Apr		\n		\n			22		\n	\n\n\n	\n		\n			\n\n				\n					\n		\n		All day	\n	\n					\n	\n		CHCI Health Dialogue Series	\n\n				\n\n				\n			\n		\n	\n\n\n											\n\n	\n	\n		\n			May		\n		\n			15		\n	\n\n\n	\n		\n			\n\n				\n					\n		\n		May 15 – May 16	\n	\n					\n	\n		2026 CHCI Energy summit	\n\n				\n\n				\n			\n		\n	\n\n\n											\n\n	\n	\n		\n			Jun		\n		\n			3		\n	\n\n\n	\n		\n			\n\n				\n					\n		\n		9:00 am – 12:30 pm	\n	\n					\n	\n		CHCI Health Dialogue Series	\n\n				\n\n				\n			\n		\n	\n\n\n											\n\n	\n	\n		\n			Jul		\n		\n			21		\n	\n\n\n	\n		\n			\n\n				\n					\n		\n		9:00 am – 12:30 pm	\n	\n					\n	\n		CHCI Health Dialogue Series	\n\n				\n\n				\n			\n		\n	\n\n\n											\n\n	\n	\n		\n			Sep		\n		\n			15		\n	\n\n\n	\n		\n			\n\n				\n					\n		\n		September 15 @ 8:30 am – September 16 @ 6:30 pm	\n	\n					\n	\n		2026 CHCI Leadership Conference	\n\n				\n\n				\n			\n		\n	\n\n\n									\n\n				\n	\n		View Calendar
URL:https://chci.org/event/chci-tech-summit/
CATEGORIES:eventcategory
ATTACH;FMTTYPE=image/png:https://chci.org/wp-content/uploads/2025/11/Tech-Summit-2025-Register-Now-1920x1080-2.png
ORGANIZER;CN="CHCI":MAILTO:info@chci.org
END:VEVENT
BEGIN:VEVENT
DTSTART;TZID=America/New_York:20251119T180000
DTEND;TZID=America/New_York:20251119T200000
DTSTAMP:20260422T184007
CREATED:20251110T164626Z
LAST-MODIFIED:20251202T210436Z
UID:28744-1763575200-1763582400@chci.org
SUMMARY:Congressional Staff Awards
DESCRIPTION:VIEW EVENT PHOTOS	\n\n\n\n\n	\n\n\n\n	\n\nThank you to everyone who joined CHCI and the CHCI Alumni Association\, in collaboration with the Congressional Hispanic Staff Association (CHSA)\, to celebrate the recipients of the 2025 Congressional Staff Award\, Carlos Paz\, Jr. and Alía Fierro. It was a powerful evening highlighting Latino leadership\, the impact of mentorship\, and the importance of investing in our community.We were proud to honor Carlos Paz\, Jr.\, Chief of Staff to Rep. Jimmy Gomez (CA-34)\, and Alía Fierro\, Senior Policy Advisor on Housing for the Senate Banking\, Housing\, and Urban Affairs Committee under Ranking Member Sen. Elizabeth Warren (MA). The program opened with remarks from CHCI President and CEO Marco Davis and CHCI Board Chair Rep. Darren Soto (FL-09)\, who underscored that both honorees are known throughout the Hill for their thoughtful leadership and commitment to helping others succeed.\n\n\n\n\n\n\n	\n		\n\n			\n			\n\n							\n					\n						Upcoming Events					\n				\n			\n			\n				\n											\n\n	\n	\n		\n			Apr		\n		\n			22		\n	\n\n\n	\n		\n			\n\n				\n					\n		\n		All day	\n	\n					\n	\n		CHCI Health Dialogue Series	\n\n				\n\n				\n			\n		\n	\n\n\n											\n\n	\n	\n		\n			May		\n		\n			15		\n	\n\n\n	\n		\n			\n\n				\n					\n		\n		May 15 – May 16	\n	\n					\n	\n		2026 CHCI Energy summit	\n\n				\n\n				\n			\n		\n	\n\n\n											\n\n	\n	\n		\n			Jun		\n		\n			3		\n	\n\n\n	\n		\n			\n\n				\n					\n		\n		9:00 am – 12:30 pm	\n	\n					\n	\n		CHCI Health Dialogue Series	\n\n				\n\n				\n			\n		\n	\n\n\n											\n\n	\n	\n		\n			Jul		\n		\n			21		\n	\n\n\n	\n		\n			\n\n				\n					\n		\n		9:00 am – 12:30 pm	\n	\n					\n	\n		CHCI Health Dialogue Series	\n\n				\n\n				\n			\n		\n	\n\n\n											\n\n	\n	\n		\n			Sep		\n		\n			15		\n	\n\n\n	\n		\n			\n\n				\n					\n		\n		September 15 @ 8:30 am – September 16 @ 6:30 pm	\n	\n					\n	\n		2026 CHCI Leadership Conference	\n\n				\n\n				\n			\n		\n	\n\n\n									\n\n				\n	\n		View Calendar
URL:https://chci.org/event/congressional-staff-awards-2/
CATEGORIES:eventcategory
ATTACH;FMTTYPE=image/png:https://chci.org/wp-content/uploads/2025/11/CSA-2025-Eblast-1200-x-602-px-2.png
ORGANIZER;CN="CHCI":MAILTO:info@chci.org
END:VEVENT
END:VCALENDAR