BEGIN:VCALENDAR
VERSION:2.0
PRODID:-//CHCI - ECPv6.15.19//NONSGML v1.0//EN
CALSCALE:GREGORIAN
METHOD:PUBLISH
X-WR-CALNAME:CHCI
X-ORIGINAL-URL:https://chci.org
X-WR-CALDESC:Events for CHCI
REFRESH-INTERVAL;VALUE=DURATION:PT1H
X-Robots-Tag:noindex
X-PUBLISHED-TTL:PT1H
BEGIN:VTIMEZONE
TZID:America/New_York
BEGIN:DAYLIGHT
TZOFFSETFROM:-0500
TZOFFSETTO:-0400
TZNAME:EDT
DTSTART:20200308T070000
END:DAYLIGHT
BEGIN:STANDARD
TZOFFSETFROM:-0400
TZOFFSETTO:-0500
TZNAME:EST
DTSTART:20201101T060000
END:STANDARD
BEGIN:DAYLIGHT
TZOFFSETFROM:-0500
TZOFFSETTO:-0400
TZNAME:EDT
DTSTART:20210314T070000
END:DAYLIGHT
BEGIN:STANDARD
TZOFFSETFROM:-0400
TZOFFSETTO:-0500
TZNAME:EST
DTSTART:20211107T060000
END:STANDARD
BEGIN:DAYLIGHT
TZOFFSETFROM:-0500
TZOFFSETTO:-0400
TZNAME:EDT
DTSTART:20220313T070000
END:DAYLIGHT
BEGIN:STANDARD
TZOFFSETFROM:-0400
TZOFFSETTO:-0500
TZNAME:EST
DTSTART:20221106T060000
END:STANDARD
END:VTIMEZONE
BEGIN:VEVENT
DTSTART;TZID=America/New_York:20210920T090000
DTEND;TZID=America/New_York:20210923T180000
DTSTAMP:20260419T230032
CREATED:20230607T163416Z
LAST-MODIFIED:20230607T171011Z
UID:24793-1632128400-1632420000@chci.org
SUMMARY:2021  Leadership Conference & 44th Annual Awards Gala
DESCRIPTION:Upcoming Events					\n				\n			\n			\n				\n											\n\n	\n	\n		\n			Apr		\n		\n			22		\n	\n\n\n	\n		\n			\n\n				\n					\n		\n		All day	\n	\n					\n	\n		CHCI Health Dialogue Series	\n\n				\n\n				\n			\n		\n	\n\n\n											\n\n	\n	\n		\n			May		\n		\n			15		\n	\n\n\n	\n		\n			\n\n				\n					\n		\n		May 15 – May 16	\n	\n					\n	\n		2026 CHCI Energy summit	\n\n				\n\n				\n			\n		\n	\n\n\n											\n\n	\n	\n		\n			Sep		\n		\n			15		\n	\n\n\n	\n		\n			\n\n				\n					\n		\n		September 15 @ 8:30 am – September 16 @ 6:30 pm	\n	\n					\n	\n		2026 CHCI Leadership Conference	\n\n				\n\n				\n			\n		\n	\n\n\n											\n\n	\n	\n		\n			Sep		\n		\n			17		\n	\n\n\n	\n		\n			\n\n				\n					\n		\n		4:30 pm – 10:00 pm	\n	\n					\n	\n		CHCI 49th Annual Awards Gala	\n\n				\n\n				\n			\n		\n	\n\n\n											\n\n	\n	\n		\n			Nov		\n		\n			18		\n	\n\n\n	\n		\n			\n\n				\n					\n		\n		8:00 am – 5:00 pm	\n	\n					\n	\n		2026 CHCI Tech Summit	\n\n				\n\n				\n			\n		\n	\n\n\n									\n\n				\n	\n		View Calendar	\n\n\n					\n	\n\n\n\n\n\n\nHISPANIC HERITAGE MONTH EVENTS \n\n\n\nALL VIRTUAL\n\n\n\nCHCI 2021 LEADERSHIP CONFERENCE\n\n\n\nSeptember 20th – September 23rd\, 2021 \n\n\n\nCHCI 44th ANNUAL AWARDS GALA\n\n\n\nSeptember 23rd\, 2021 \n\n\n\n\n\n\n\nClick here\, for the digital program book. \n\n\n\nCHCI Session Write-ups \n\n\n\nLatinas Leading the WayLeading the Way: American Business with Purpose Latino Capital: Supporting Small Business After the Uniform: Latino Veterans Rejoining the Civilian WorkforceLeading the Way: Financial TechnologiesEquitable Economic Recovery in a Post-Pandemic FutureImmigrants Get the Job Done Cryptocurrency and the Global Market \n\n\n\n	\n\nbutton\n\n\n\n\n\n\n\n\n\n	\n\nFor questions email: info@chci.org
URL:https://chci.org/event/2021-leadership-conference-44th-annual-awards-gala/
CATEGORIES:eventcategory
ATTACH;FMTTYPE=image/jpeg:https://chci.org/wp-content/uploads/2021/05/CHCI_2021HHM_Presente_SocialMedia_R1_Event-Eblast-scaled.jpg
ORGANIZER;CN="CHCI":MAILTO:info@chci.org
END:VEVENT
END:VCALENDAR