BEGIN:VCALENDAR
VERSION:2.0
PRODID:-//CHCI - ECPv6.15.19//NONSGML v1.0//EN
CALSCALE:GREGORIAN
METHOD:PUBLISH
X-ORIGINAL-URL:https://chci.org
X-WR-CALDESC:Events for CHCI
REFRESH-INTERVAL;VALUE=DURATION:PT1H
X-Robots-Tag:noindex
X-PUBLISHED-TTL:PT1H
BEGIN:VTIMEZONE
TZID:America/New_York
BEGIN:DAYLIGHT
TZOFFSETFROM:-0500
TZOFFSETTO:-0400
TZNAME:EDT
DTSTART:20230312T070000
END:DAYLIGHT
BEGIN:STANDARD
TZOFFSETFROM:-0400
TZOFFSETTO:-0500
TZNAME:EST
DTSTART:20231105T060000
END:STANDARD
BEGIN:DAYLIGHT
TZOFFSETFROM:-0500
TZOFFSETTO:-0400
TZNAME:EDT
DTSTART:20240310T070000
END:DAYLIGHT
BEGIN:STANDARD
TZOFFSETFROM:-0400
TZOFFSETTO:-0500
TZNAME:EST
DTSTART:20241103T060000
END:STANDARD
BEGIN:DAYLIGHT
TZOFFSETFROM:-0500
TZOFFSETTO:-0400
TZNAME:EDT
DTSTART:20250309T070000
END:DAYLIGHT
BEGIN:STANDARD
TZOFFSETFROM:-0400
TZOFFSETTO:-0500
TZNAME:EST
DTSTART:20251102T060000
END:STANDARD
END:VTIMEZONE
BEGIN:VEVENT
DTSTART;TZID=America/New_York:20241120T080000
DTEND;TZID=America/New_York:20241120T130000
DTSTAMP:20260420T101559
CREATED:20241008T221243Z
LAST-MODIFIED:20250113T152648Z
UID:27585-1732089600-1732107600@chci.org
SUMMARY:Recap: CHCI Symposium on Energy\, Infrastructure\, and Sustainability
DESCRIPTION:CHCI Symposium on Energy\, Infrastructure\, and Sustainability! \n\n\n\n\n\nThank you to everyone who joined us at the 2024 CHCI Symposium on Energy\, Infrastructure\, and Sustainability! We convened nearly 200 cross-sector leaders\, including Members of Congress and other public officials\, corporate executives\, industry experts\, and community advocates for insightful presentations and solution-based exchanges.  \n\n\n\nAttendees participated in discussions centered on the transformative impact of federal investments through legislation such as the Infrastructure Investment and Jobs Act (IIJA) and the Inflation Reduction Act (IRA)\, strategies for enhancing grid resilience and fostering a clean energy transition\, the economic and social implications of infrastructure development on communities nationwide\, and more. \n\n\n\nThe morning started with a networking breakfast for attendees to engage across the CHCI network. During the opening session\, “Innovations in Energy\, Infrastructure\, and Sustainability: Transforming Consumer Products and Building a Resilient Future\,” leaders from across sectors highlighted the transformative potential of recent federal investments aimed at building a resilient and sustainable economy. \n\n\n\nIn the session that followed\, “Clean Energy Transition: Challenges and Opportunities for Communities and Industries\,” industry experts discussed workforce development for the green economy\, the role of clean energy tax credits\, innovation in sustainable transportation\, and strategies to create new jobs while supporting local economies. \n\n\n\nIn the closing session\, “Balancing Power Demand\, Energy Transition\, and Affordability: The Future of Oil\, Gas\, and Transportation\,” panelists explored the complexities of managing increasing energy demands\, focusing on the reliability of power generation and the impact of rising energy prices on low-and-moderate income communities.  \n\n\n\nThe event wrapped up with a to-go lunch that allowed participants to network and connect with industry experts. \n\n\n\nThank you to everyone who joined us! \n\n\n\nCHCI Symposium on Energy\, Infrastructure\, and SustainabilityWednesday\, November 20\, 20248:00 AM – 1:00 PM \n\n\n\nHyatt Regency Washington \n\n\n\n400 New Jersey Avenue NW\, Washington\, DC 20001 \n\n\n\n\nView Speakers Here\n\n\n\nView Event Photos Here\n\n\n\nView the Symposium Program Book Here\n\n\n\n\n\n\n\n\n	\n	\n\n\n\n\n	\n		\n\n			\n			\n\n							\n					\n						Upcoming Events					\n				\n			\n			\n				\n											\n\n	\n	\n		\n			Apr		\n		\n			22		\n	\n\n\n	\n		\n			\n\n				\n					\n		\n		All day	\n	\n					\n	\n		CHCI Health Dialogue Series	\n\n				\n\n				\n			\n		\n	\n\n\n											\n\n	\n	\n		\n			May		\n		\n			15		\n	\n\n\n	\n		\n			\n\n				\n					\n		\n		May 15 – May 16	\n	\n					\n	\n		2026 CHCI Energy summit	\n\n				\n\n				\n			\n		\n	\n\n\n											\n\n	\n	\n		\n			Sep		\n		\n			15		\n	\n\n\n	\n		\n			\n\n				\n					\n		\n		September 15 @ 8:30 am – September 16 @ 6:30 pm	\n	\n					\n	\n		2026 CHCI Leadership Conference	\n\n				\n\n				\n			\n		\n	\n\n\n											\n\n	\n	\n		\n			Sep		\n		\n			17		\n	\n\n\n	\n		\n			\n\n				\n					\n		\n		4:30 pm – 10:00 pm	\n	\n					\n	\n		CHCI 49th Annual Awards Gala	\n\n				\n\n				\n			\n		\n	\n\n\n											\n\n	\n	\n		\n			Nov		\n		\n			18		\n	\n\n\n	\n		\n			\n\n				\n					\n		\n		8:00 am – 5:00 pm	\n	\n					\n	\n		2026 CHCI Tech Summit	\n\n				\n\n				\n			\n		\n	\n\n\n									\n\n				\n	\n		View Calendar	\n\n\n					\n	\n\n\n\n\n\n\n\n\n\n\n	\n\n\n\n\n\n	\n\nFor questions email: info@chci.org
URL:https://chci.org/event/chci-symposium-on-energy-infrastructure-and-sustainability/
LOCATION:Hyatt Regency Washington\, located at 400 New Jersey Avenue NW\, Washington\, DC 20001
CATEGORIES:eventcategory
ATTACH;FMTTYPE=image/jpeg:https://chci.org/wp-content/uploads/2024/10/CHCI-NovSymp.jpg
ORGANIZER;CN="CHCI":MAILTO:info@chci.org
END:VEVENT
BEGIN:VEVENT
DTSTART;TZID=America/New_York:20241120T180000
DTEND;TZID=America/New_York:20241120T200000
DTSTAMP:20260420T101600
CREATED:20241118T163415Z
LAST-MODIFIED:20241118T163935Z
UID:27832-1732125600-1732132800@chci.org
SUMMARY:Congressional Staff Awards
DESCRIPTION:Celebrate diversity on Capitol Hill with CHCI at the Congressional Staff Awards! \n\n\n\n\n\nJoin us on Wednesday\, November 20\, at the Hyatt Regency Washington as CHCI and the CHCI Alumni Association\, in collaboration with the Congressional Hispanic Staff Association (CHSA)\, honor esteemed senior Congressional staff members for their dedication to promoting diversity on Capitol Hill. These remarkable staffers play a pivotal role in creating opportunities for emerging Latino leaders. This event will be a fantastic opportunity to connect\, celebrate\, and uplift those who work tirelessly to make Capitol Hill a more inclusive place. Come join us in honoring champions of diversity on Capitol Hill! \n\n\n\n 2024 CHCI Congressional Staff Awards \n\n\n\nWednesday\, November 20\, 20246:00 PM – 8:00 PM  \n\n\n\nHyatt Regency Washington on Capitol Hill400 New Jersey Avenue\, NWWashington\, DC 20001 \n\n\n\n\nRegister Now\n\n\n\n\n \n\n\n\nSponsorship opportunities for the CHCI Symposium are available.  \n\n\n\n	\n	\n\n\n\n\n	\n		\n\n			\n			\n\n							\n					\n						Upcoming Events					\n				\n			\n			\n				\n											\n\n	\n	\n		\n			Apr		\n		\n			22		\n	\n\n\n	\n		\n			\n\n				\n					\n		\n		All day	\n	\n					\n	\n		CHCI Health Dialogue Series	\n\n				\n\n				\n			\n		\n	\n\n\n											\n\n	\n	\n		\n			May		\n		\n			15		\n	\n\n\n	\n		\n			\n\n				\n					\n		\n		May 15 – May 16	\n	\n					\n	\n		2026 CHCI Energy summit	\n\n				\n\n				\n			\n		\n	\n\n\n											\n\n	\n	\n		\n			Sep		\n		\n			15		\n	\n\n\n	\n		\n			\n\n				\n					\n		\n		September 15 @ 8:30 am – September 16 @ 6:30 pm	\n	\n					\n	\n		2026 CHCI Leadership Conference	\n\n				\n\n				\n			\n		\n	\n\n\n											\n\n	\n	\n		\n			Sep		\n		\n			17		\n	\n\n\n	\n		\n			\n\n				\n					\n		\n		4:30 pm – 10:00 pm	\n	\n					\n	\n		CHCI 49th Annual Awards Gala	\n\n				\n\n				\n			\n		\n	\n\n\n											\n\n	\n	\n		\n			Nov		\n		\n			18		\n	\n\n\n	\n		\n			\n\n				\n					\n		\n		8:00 am – 5:00 pm	\n	\n					\n	\n		2026 CHCI Tech Summit	\n\n				\n\n				\n			\n		\n	\n\n\n									\n\n				\n	\n		View Calendar	\n\n\n					\n	\n\n\n\n\n\n\n\n\n\n\n	\n\n\n\n\n\n	\n\nFor questions email: info@chci.org
URL:https://chci.org/event/congressional-staff-awards/
LOCATION:Hyatt Regency Washington\, located at 400 New Jersey Avenue NW\, Washington\, DC 20001
CATEGORIES:eventcategory
ATTACH;FMTTYPE=image/png:https://chci.org/wp-content/uploads/2024/11/Final-Draft-2024-2.png
ORGANIZER;CN="CHCI":MAILTO:info@chci.org
END:VEVENT
END:VCALENDAR